BEGIN:VCALENDAR
VERSION:2.0
PRODID:spatie/icalendar-generator
NAME:Veiligheidscoalitie agenda
X-WR-CALNAME:Veiligheidscoalitie agenda
BEGIN:VTIMEZONE
TZID:Europe/Amsterdam
BEGIN:DAYLIGHT
DTSTART:20260329T010000
TZOFFSETFROM:+0100
TZOFFSETTO:+0200
END:DAYLIGHT
BEGIN:STANDARD
DTSTART:20261025T030000
TZOFFSETFROM:+0200
TZOFFSETTO:+0100
END:STANDARD
BEGIN:DAYLIGHT
DTSTART:20270328T010000
TZOFFSETFROM:+0100
TZOFFSETTO:+0200
END:DAYLIGHT
END:VTIMEZONE
BEGIN:VTIMEZONE
TZID:UTC
BEGIN:STANDARD
DTSTART:20250726T115336
TZOFFSETFROM:+0000
TZOFFSETTO:+0000
END:STANDARD
END:VTIMEZONE
BEGIN:VEVENT
UID:save-the-date-samen-werken-aan-cyberweerbaarheid
DTSTAMP:20260422T115336Z
SUMMARY:Save the Date: 'Samen werken aan cyberweerbaarheid' | 29 oktober 20
 26
DESCRIPTION:Het evenement ‘Samen werken aan cyberweerbaarheid\; regie op 
 dader- en slachtofferschap’ is een inspirerende bijeenkomst voor iederee
 n die zich in de regio inzet tegen online criminaliteit. Op donderdag 29 o
 ktober in Den Haag komen professionals samen om kennis te delen\, actuele 
 ontwikkelingen te bespreken en gezamenlijk te werken aan een veiligere dig
 itale samenleving.
LOCATION:Den Haag
IMAGE;VALUE=URI:https://get.sitecache.nl/vcdenhaag/1776782925/assets/public
 /images/agenda/image/84_image.jpg
DTSTART;TZID=Europe/Amsterdam:20261029T120000
DTEND;TZID=Europe/Amsterdam:20261029T140000
END:VEVENT
END:VCALENDAR